BEGIN:VCALENDAR
VERSION:2.0
PRODID:-//Home Farm BBQ - ECPv6.15.20//NONSGML v1.0//EN
CALSCALE:GREGORIAN
METHOD:PUBLISH
X-WR-CALNAME:Home Farm BBQ
X-ORIGINAL-URL:https://homefarmbbq.com
X-WR-CALDESC:Events for Home Farm BBQ
REFRESH-INTERVAL;VALUE=DURATION:PT1H
X-Robots-Tag:noindex
X-PUBLISHED-TTL:PT1H
BEGIN:VTIMEZONE
TZID:UTC
BEGIN:STANDARD
TZOFFSETFROM:+0000
TZOFFSETTO:+0000
TZNAME:UTC
DTSTART:20230101T000000
END:STANDARD
END:VTIMEZONE
BEGIN:VEVENT
DTSTART;VALUE=DATE:20240719
DTEND;VALUE=DATE:20240721
DTSTAMP:20260423T191948
CREATED:20240404T163513Z
LAST-MODIFIED:20240430T135937Z
UID:505-1721347200-1721519999@homefarmbbq.com
SUMMARY:Brighton BBQ Bash
DESCRIPTION:Brighton\, WI.
URL:https://homefarmbbq.com/event/brighton-competition/
END:VEVENT
BEGIN:VEVENT
DTSTART;TZID=UTC:20240629T080000
DTEND;TZID=UTC:20240629T130000
DTSTAMP:20260423T191948
CREATED:20240404T163321Z
LAST-MODIFIED:20240404T170741Z
UID:499-1719648000-1719666000@homefarmbbq.com
SUMMARY:Dyersville Downtown Market
DESCRIPTION:
URL:https://homefarmbbq.com/event/dyersville-downtown-market/
END:VEVENT
BEGIN:VEVENT
DTSTART;TZID=UTC:20240602T120000
DTEND;TZID=UTC:20240602T160000
DTSTAMP:20260423T191948
CREATED:20240516T152304Z
LAST-MODIFIED:20240516T152446Z
UID:567-1717329600-1717344000@homefarmbbq.com
SUMMARY:Legacy Square Dedication - Live Music
DESCRIPTION:Legacy Square – Dyersville\, IA
URL:https://homefarmbbq.com/event/legacy-square-dedication-live-music/
END:VEVENT
BEGIN:VEVENT
DTSTART;TZID=UTC:20240530T110000
DTEND;TZID=UTC:20240530T133000
DTSTAMP:20260423T191948
CREATED:20240404T162901Z
LAST-MODIFIED:20240404T162901Z
UID:493-1717066800-1717075800@homefarmbbq.com
SUMMARY:Farm Tek
DESCRIPTION:1440 18th Ave SW\, Dyersville\,  IA.
URL:https://homefarmbbq.com/event/farm-tek-2/
END:VEVENT
BEGIN:VEVENT
DTSTART;TZID=UTC:20240522T113000
DTEND;TZID=UTC:20240522T133000
DTSTAMP:20260423T191948
CREATED:20240404T162042Z
LAST-MODIFIED:20240520T183435Z
UID:483-1716377400-1716384600@homefarmbbq.com
SUMMARY:The Markket
DESCRIPTION:200 N Locust St\, Edgewood IA
URL:https://homefarmbbq.com/event/kendrick-forest-products/
END:VEVENT
BEGIN:VEVENT
DTSTART;VALUE=DATE:20240517
DTEND;VALUE=DATE:20240520
DTSTAMP:20260423T191948
CREATED:20240404T163047Z
LAST-MODIFIED:20240430T135915Z
UID:497-1715904000-1716163199@homefarmbbq.com
SUMMARY:King of the Corn Competition
DESCRIPTION:Ottumwa\, IA
URL:https://homefarmbbq.com/event/king-of-the-corn-competition/
END:VEVENT
BEGIN:VEVENT
DTSTART;TZID=UTC:20240504T163000
DTEND;TZID=UTC:20240504T200000
DTSTAMP:20260423T191948
CREATED:20240404T162423Z
LAST-MODIFIED:20240404T172008Z
UID:487-1714840200-1714852800@homefarmbbq.com
SUMMARY:Deb's Brewtopia
DESCRIPTION:106 Cedar St\, Elkader IA
URL:https://homefarmbbq.com/event/debs-brewtopia/
LOCATION:106 Cedar St Elkader\, IA 52043\, 106 Cedar St\, Elkader\, IA\, 52043
END:VEVENT
BEGIN:VEVENT
DTSTART;TZID=UTC:20240411T110000
DTEND;TZID=UTC:20240411T133000
DTSTAMP:20260423T191948
CREATED:20240404T162648Z
LAST-MODIFIED:20240404T162754Z
UID:489-1712833200-1712842200@homefarmbbq.com
SUMMARY:Farm Tek
DESCRIPTION:1440 18th Ave SW\, Dyersville IA. \nHickory smoked pulled pork sandwich\, coleslaw\, chips and bottle of water. $12
URL:https://homefarmbbq.com/event/farm-tek/
END:VEVENT
BEGIN:VEVENT
DTSTART;TZID=UTC:20240224T190000
DTEND;TZID=UTC:20240224T190000
DTSTAMP:20260423T191948
CREATED:20240219T210544Z
LAST-MODIFIED:20240219T210544Z
UID:444-1708801200-1708801200@homefarmbbq.com
SUMMARY:BBQ at Roberto's
DESCRIPTION:
URL:https://homefarmbbq.com/event/bbq-at-robertos/
LOCATION:Roberto’s House\, 14649 Sherrill Rd\, Sherrill\, IA\, 52073\, United States
END:VEVENT
END:VCALENDAR