BEGIN:VCALENDAR
VERSION:2.0
PRODID:-//Home Farm BBQ - ECPv6.15.20//NONSGML v1.0//EN
CALSCALE:GREGORIAN
METHOD:PUBLISH
X-WR-CALNAME:Home Farm BBQ
X-ORIGINAL-URL:https://homefarmbbq.com
X-WR-CALDESC:Events for Home Farm BBQ
REFRESH-INTERVAL;VALUE=DURATION:PT1H
X-Robots-Tag:noindex
X-PUBLISHED-TTL:PT1H
BEGIN:VTIMEZONE
TZID:UTC
BEGIN:STANDARD
TZOFFSETFROM:+0000
TZOFFSETTO:+0000
TZNAME:UTC
DTSTART:20250101T000000
END:STANDARD
END:VTIMEZONE
BEGIN:VEVENT
DTSTART;TZID=UTC:20260503T080000
DTEND;TZID=UTC:20260503T170000
DTSTAMP:20260423T210349
CREATED:20260421T153811Z
LAST-MODIFIED:20260421T153811Z
UID:604-1777795200-1777827600@homefarmbbq.com
SUMMARY:Scheels North Dakota BBQ Contest
DESCRIPTION:
URL:https://homefarmbbq.com/event/scheels-north-dakota-bbq-contest/
END:VEVENT
BEGIN:VEVENT
DTSTART;TZID=UTC:20260507T110000
DTEND;TZID=UTC:20260507T120000
DTSTAMP:20260423T210349
CREATED:20260421T153925Z
LAST-MODIFIED:20260421T153925Z
UID:606-1778151600-1778155200@homefarmbbq.com
SUMMARY:Xavier Catering Private
DESCRIPTION:
URL:https://homefarmbbq.com/event/xavier-catering-private/
END:VEVENT
BEGIN:VEVENT
DTSTART;TZID=UTC:20260510T080000
DTEND;TZID=UTC:20260510T170000
DTSTAMP:20260423T210349
CREATED:20260421T154035Z
LAST-MODIFIED:20260421T154035Z
UID:611-1778400000-1778432400@homefarmbbq.com
SUMMARY:Minnesota In May BBQ Contest
DESCRIPTION:
URL:https://homefarmbbq.com/event/minnesota-in-may-bbq-contest/
END:VEVENT
BEGIN:VEVENT
DTSTART;TZID=UTC:20260510T160000
DTEND;TZID=UTC:20260510T170000
DTSTAMP:20260423T210349
CREATED:20260421T154007Z
LAST-MODIFIED:20260421T154007Z
UID:609-1778428800-1778432400@homefarmbbq.com
SUMMARY:Private B-day Catering
DESCRIPTION:
URL:https://homefarmbbq.com/event/private-b-day-catering/
END:VEVENT
BEGIN:VEVENT
DTSTART;TZID=UTC:20260514T110000
DTEND;TZID=UTC:20260514T130000
DTSTAMP:20260423T210349
CREATED:20260421T154245Z
LAST-MODIFIED:20260421T154245Z
UID:613-1778756400-1778763600@homefarmbbq.com
SUMMARY:FarmTeK Lunch - Open to public
DESCRIPTION:
URL:https://homefarmbbq.com/event/farmtek-lunch-open-to-public/
LOCATION:1440 18th Ave SW\, Hwy 20\, Mile Marker 293\, Dyersville\, IA 52040\, 1440 18th Ave SW\, Dyersville\, Iowa
END:VEVENT
BEGIN:VEVENT
DTSTART;VALUE=DATE:20260523
DTEND;VALUE=DATE:20260526
DTSTAMP:20260423T210349
CREATED:20260421T154415Z
LAST-MODIFIED:20260421T154415Z
UID:616-1779494400-1779753599@homefarmbbq.com
SUMMARY:KCBS World Invitational Lebanon TN
DESCRIPTION:
URL:https://homefarmbbq.com/event/kcbs-world-invitational-lebanon-tn/
END:VEVENT
BEGIN:VEVENT
DTSTART;TZID=UTC:20260606T120000
DTEND;TZID=UTC:20260606T190000
DTSTAMP:20260423T210349
CREATED:20260421T154629Z
LAST-MODIFIED:20260421T161202Z
UID:618-1780747200-1780772400@homefarmbbq.com
SUMMARY:Deb's Brewtopia Meat Raffle - Open to Public *Live Music*
DESCRIPTION:
URL:https://homefarmbbq.com/event/debs-brewtopia-meat-raffle-open-to-public/
LOCATION:106 Cedar St Elkader\, IA 52043\, 106 Cedar St\, Elkader\, IA\, 52043
END:VEVENT
BEGIN:VEVENT
DTSTART;VALUE=DATE:20260613
DTEND;VALUE=DATE:20260616
DTSTAMP:20260423T210349
CREATED:20260421T154731Z
LAST-MODIFIED:20260421T154731Z
UID:620-1781308800-1781567999@homefarmbbq.com
SUMMARY:Bring'n Home The Bacon BBQ Contest West Salem\, WI
DESCRIPTION:
URL:https://homefarmbbq.com/event/bringn-home-the-bacon-bbq-contest-west-salem-wi/
END:VEVENT
BEGIN:VEVENT
DTSTART;VALUE=DATE:20260617
DTEND;VALUE=DATE:20260618
DTSTAMP:20260423T210349
CREATED:20260421T154819Z
LAST-MODIFIED:20260421T154819Z
UID:622-1781654400-1781740799@homefarmbbq.com
SUMMARY:Private Catering Event
DESCRIPTION:
URL:https://homefarmbbq.com/event/private-catering-event/
END:VEVENT
BEGIN:VEVENT
DTSTART;TZID=UTC:20260619T190000
DTEND;TZID=UTC:20260619T203000
DTSTAMP:20260423T210349
CREATED:20260423T134234Z
LAST-MODIFIED:20260423T134234Z
UID:663-1781895600-1781901000@homefarmbbq.com
SUMMARY:Private Catering Event
DESCRIPTION:
URL:https://homefarmbbq.com/event/private-catering-event-2/
END:VEVENT
BEGIN:VEVENT
DTSTART;TZID=UTC:20260627T080000
DTEND;TZID=UTC:20260627T120000
DTSTAMP:20260423T210349
CREATED:20260421T154909Z
LAST-MODIFIED:20260421T154909Z
UID:624-1782547200-1782561600@homefarmbbq.com
SUMMARY:Dyersville Downtown Market - Open to public
DESCRIPTION:
URL:https://homefarmbbq.com/event/dyersville-downtown-market-open-to-public/
END:VEVENT
BEGIN:VEVENT
DTSTART;TZID=UTC:20260627T170000
DTEND;TZID=UTC:20260627T170000
DTSTAMP:20260423T210349
CREATED:20260421T154940Z
LAST-MODIFIED:20260421T154940Z
UID:626-1782579600-1782579600@homefarmbbq.com
SUMMARY:Private Catering
DESCRIPTION:
URL:https://homefarmbbq.com/event/private-catering/
END:VEVENT
BEGIN:VEVENT
DTSTART;VALUE=DATE:20260711
DTEND;VALUE=DATE:20260712
DTSTAMP:20260423T210349
CREATED:20260421T155102Z
LAST-MODIFIED:20260421T155102Z
UID:628-1783728000-1783814399@homefarmbbq.com
SUMMARY:Smokin' Gobbler BBQ Contest - Worthington\, MN
DESCRIPTION:
URL:https://homefarmbbq.com/event/smokin-gobbler-bbq-contest-worthington-mn/
END:VEVENT
BEGIN:VEVENT
DTSTART;TZID=UTC:20260718T080000
DTEND;TZID=UTC:20260718T120000
DTSTAMP:20260423T210349
CREATED:20260421T155256Z
LAST-MODIFIED:20260421T155256Z
UID:630-1784361600-1784376000@homefarmbbq.com
SUMMARY:Dyersville Downtown Market - Open to public
DESCRIPTION:
URL:https://homefarmbbq.com/event/dyersville-downtown-market-open-to-public-2/
END:VEVENT
BEGIN:VEVENT
DTSTART;VALUE=DATE:20260725
DTEND;VALUE=DATE:20260726
DTSTAMP:20260423T210349
CREATED:20260421T155350Z
LAST-MODIFIED:20260421T155350Z
UID:632-1784937600-1785023999@homefarmbbq.com
SUMMARY:Ragbraii Set up TBD - Open to Public
DESCRIPTION:
URL:https://homefarmbbq.com/event/ragbraii-set-up-tbd-open-to-public/
END:VEVENT
BEGIN:VEVENT
DTSTART;VALUE=DATE:20260801
DTEND;VALUE=DATE:20260802
DTSTAMP:20260423T210349
CREATED:20260421T155441Z
LAST-MODIFIED:20260421T155441Z
UID:634-1785542400-1785628799@homefarmbbq.com
SUMMARY:All-American BBQ Throwdown - Westland\, MI
DESCRIPTION:
URL:https://homefarmbbq.com/event/all-american-bbq-throwdown-westland-mi/
END:VEVENT
BEGIN:VEVENT
DTSTART;TZID=UTC:20260808T163000
DTEND;TZID=UTC:20260808T190000
DTSTAMP:20260423T210349
CREATED:20260421T155859Z
LAST-MODIFIED:20260421T155859Z
UID:636-1786206600-1786215600@homefarmbbq.com
SUMMARY:Smoking Gun Showdown - Open to Public *Live Music*
DESCRIPTION:
URL:https://homefarmbbq.com/event/smoking-gun-showdown-open-to-public-live-music/
LOCATION:Elliot Field Marquette\, IA\, South St (Elliot Field)\, Marquette\, IA
END:VEVENT
BEGIN:VEVENT
DTSTART;TZID=UTC:20260813T110000
DTEND;TZID=UTC:20260813T210000
DTSTAMP:20260423T210349
CREATED:20260421T155957Z
LAST-MODIFIED:20260421T155957Z
UID:639-1786618800-1786654800@homefarmbbq.com
SUMMARY:MLB Game Dyersville Vending TBD
DESCRIPTION:
URL:https://homefarmbbq.com/event/mlb-game-dyersville-vending-tbd/
END:VEVENT
BEGIN:VEVENT
DTSTART;VALUE=DATE:20260815
DTEND;VALUE=DATE:20260816
DTSTAMP:20260423T210349
CREATED:20260421T160107Z
LAST-MODIFIED:20260421T160107Z
UID:641-1786752000-1786838399@homefarmbbq.com
SUMMARY:BBQ Fly In Contest - Excelsior Springs\, MO
DESCRIPTION:
URL:https://homefarmbbq.com/event/bbq-fly-in-contest-excelsior-springs-mo/
END:VEVENT
BEGIN:VEVENT
DTSTART;TZID=UTC:20260829T080000
DTEND;TZID=UTC:20260829T120000
DTSTAMP:20260423T210349
CREATED:20260421T160144Z
LAST-MODIFIED:20260421T160144Z
UID:643-1787990400-1788004800@homefarmbbq.com
SUMMARY:Dyersville Downtown Market - Open to Public
DESCRIPTION:
URL:https://homefarmbbq.com/event/dyersville-downtown-market-open-to-public-3/
END:VEVENT
BEGIN:VEVENT
DTSTART;TZID=UTC:20260910T110000
DTEND;TZID=UTC:20260910T130000
DTSTAMP:20260423T210349
CREATED:20260421T160309Z
LAST-MODIFIED:20260421T160309Z
UID:645-1789038000-1789045200@homefarmbbq.com
SUMMARY:FarmTek Lunch - Open to Public
DESCRIPTION:
URL:https://homefarmbbq.com/event/farmtek-lunch-open-to-public-2/
LOCATION:1440 18th Ave SW\, Hwy 20\, Mile Marker 293\, Dyersville\, IA 52040\, 1440 18th Ave SW\, Dyersville\, Iowa
END:VEVENT
BEGIN:VEVENT
DTSTART;VALUE=DATE:20261003
DTEND;VALUE=DATE:20261004
DTSTAMP:20260423T210349
CREATED:20260421T160448Z
LAST-MODIFIED:20260421T160448Z
UID:647-1790985600-1791071999@homefarmbbq.com
SUMMARY:La Belle MO Show Me BBQ Showdown
DESCRIPTION:
URL:https://homefarmbbq.com/event/la-belle-mo-show-me-bbq-showdown/
END:VEVENT
BEGIN:VEVENT
DTSTART;VALUE=DATE:20261017
DTEND;VALUE=DATE:20261018
DTSTAMP:20260423T210349
CREATED:20260421T160540Z
LAST-MODIFIED:20260421T160540Z
UID:649-1792195200-1792281599@homefarmbbq.com
SUMMARY:King of the Corn BBQ Contest - Ottumwa\, IA
DESCRIPTION:
URL:https://homefarmbbq.com/event/king-of-the-corn-bbq-contest-ottumwa-ia/
END:VEVENT
BEGIN:VEVENT
DTSTART;TZID=UTC:20261029T110000
DTEND;TZID=UTC:20261029T130000
DTSTAMP:20260423T210349
CREATED:20260421T160920Z
LAST-MODIFIED:20260421T160920Z
UID:651-1793271600-1793278800@homefarmbbq.com
SUMMARY:FarmTek Lunch - Open to Public
DESCRIPTION:
URL:https://homefarmbbq.com/event/farmtek-lunch-open-to-public-3/
LOCATION:1440 18th Ave SW\, Hwy 20\, Mile Marker 293\, Dyersville\, IA 52040\, 1440 18th Ave SW\, Dyersville\, Iowa
END:VEVENT
END:VCALENDAR