BEGIN:VCALENDAR
VERSION:2.0
PRODID:-//Home Farm BBQ - ECPv6.15.20//NONSGML v1.0//EN
CALSCALE:GREGORIAN
METHOD:PUBLISH
X-WR-CALNAME:Home Farm BBQ
X-ORIGINAL-URL:https://homefarmbbq.com
X-WR-CALDESC:Events for Home Farm BBQ
REFRESH-INTERVAL;VALUE=DURATION:PT1H
X-Robots-Tag:noindex
X-PUBLISHED-TTL:PT1H
BEGIN:VTIMEZONE
TZID:UTC
BEGIN:STANDARD
TZOFFSETFROM:+0000
TZOFFSETTO:+0000
TZNAME:UTC
DTSTART:20240101T000000
END:STANDARD
END:VTIMEZONE
BEGIN:VEVENT
DTSTART;TZID=UTC:20250209T100000
DTEND;TZID=UTC:20250209T120000
DTSTAMP:20260424T211521
CREATED:20250117T154536Z
LAST-MODIFIED:20250117T154536Z
UID:593-1739095200-1739102400@homefarmbbq.com
SUMMARY:Super Bowl Weekend BBQ TO GO
DESCRIPTION:
URL:https://homefarmbbq.com/event/super-bowl-weekend-bbq-to-go/
LOCATION:504 4th Ave SE Dyersville\, IA 52040\, 504 4th Ave SE\, Dyersville\, IA\, 52040\, United States
END:VEVENT
END:VCALENDAR